BEGIN:VCALENDAR
VERSION:2.0
PRODID:-//wp-events-plugin.com//7.0.4//EN
BEGIN:VEVENT
UID:77@oscarpino.com
DTSTART;TZID=America/Costa_Rica:20231202T200000
DTEND;TZID=America/Costa_Rica:20231202T220000
DTSTAMP:20231127T113946Z
URL:https://oscarpino.com/events/victors/
SUMMARY:Victor's
DESCRIPTION:
CATEGORIES:Live Music Venue
END:VEVENT
BEGIN:VTIMEZONE
TZID:America/Costa_Rica
X-LIC-LOCATION:America/Costa_Rica
BEGIN:STANDARD
DTSTART:20221202T200000
TZOFFSETFROM:-0600
TZOFFSETTO:-0600
TZNAME:CST
END:STANDARD
END:VTIMEZONE
END:VCALENDAR