BEGIN:VCALENDAR
VERSION:2.0
PRODID:-//wp-events-plugin.com//7.0.4//EN
BEGIN:VEVENT
UID:37@oscarpino.com
DTSTART;TZID=America/Costa_Rica:20221209T203000
DTEND;TZID=America/Costa_Rica:20221209T223000
DTSTAMP:20221125T183845Z
URL:https://oscarpino.com/events/trova-bar-grill/
SUMMARY:Trova Bar & Grill
DESCRIPTION:
LOCATION:Trova Bar & Grill\, Frente al Refugio de Animales en San Rafael de
  Heredia\, San Rafael\, Heredia\, Heredia\, Costa Rica
X-APPLE-STRUCTURED-LOCATION;VALUE=URI;X-ADDRESS=Frente al Refugio de Animal
 es en San Rafael de Heredia\, San Rafael\, Heredia\, Heredia\, Costa Rica;
 X-APPLE-RADIUS=100;X-TITLE=Trova Bar & Grill:geo:0,0
END:VEVENT
BEGIN:VTIMEZONE
TZID:America/Costa_Rica
X-LIC-LOCATION:America/Costa_Rica
BEGIN:STANDARD
DTSTART:20211209T203000
TZOFFSETFROM:-0600
TZOFFSETTO:-0600
TZNAME:CST
END:STANDARD
END:VTIMEZONE
END:VCALENDAR