BEGIN:VCALENDAR
VERSION:2.0
PRODID:-//wp-events-plugin.com//7.0.4//EN
BEGIN:VEVENT
UID:56@oscarpino.com
DTSTART;TZID=America/Costa_Rica:20230423T210000
DTEND;TZID=America/Costa_Rica:20230423T230000
DTSTAMP:20230422T173426Z
URL:https://oscarpino.com/events/todos-por-vane-concierto-solidario/
SUMMARY:Todos por Vane! Concierto Solidario
DESCRIPTION:\n 	\n
CATEGORIES:Live Music Venue
LOCATION:La Cantina de Sabina\, Los Angeles \, San Rafael de Heredia\, Cost
 a Rica
GEO:9.98932;-84.058382
X-APPLE-STRUCTURED-LOCATION;VALUE=URI;X-ADDRESS=Los Angeles \, San Rafael d
 e Heredia\, Costa Rica;X-APPLE-RADIUS=100;X-TITLE=La Cantina de Sabina:geo
 :9.98932,-84.058382
END:VEVENT
BEGIN:VTIMEZONE
TZID:America/Costa_Rica
X-LIC-LOCATION:America/Costa_Rica
BEGIN:STANDARD
DTSTART:20220423T210000
TZOFFSETFROM:-0600
TZOFFSETTO:-0600
TZNAME:CST
END:STANDARD
END:VTIMEZONE
END:VCALENDAR