BEGIN:VCALENDAR
VERSION:2.0
PRODID:-//wp-events-plugin.com//7.0.4//EN
BEGIN:VEVENT
UID:44@oscarpino.com
DTSTART;TZID=America/Costa_Rica:20230312T200000
DTEND;TZID=America/Costa_Rica:20230312T220000
DTSTAMP:20230308T235329Z
URL:https://oscarpino.com/events/the-green-room-cafe-jaco/
SUMMARY:The Green Room Café\, Jaco
DESCRIPTION:
CATEGORIES:Live Music Venue
LOCATION:The Green Room Cafe\, Calle Casino Cocal Frente Oficinas Del ICE\,
  Provincia de Puntarenas\, Jacó\,\, Jaco\, Puntarenas\, 61101\, Pacifico 
 Central\, Costa Rica
GEO:9.614527;-84.628229
X-APPLE-STRUCTURED-LOCATION;VALUE=URI;X-ADDRESS=Calle Casino Cocal Frente O
 ficinas Del ICE\, Provincia de Puntarenas\, Jacó\,\, Jaco\, Puntarenas\, 
 61101\, Pacifico Central\, Costa Rica;X-APPLE-RADIUS=100;X-TITLE=The Green
  Room Cafe:geo:9.614527,-84.628229
END:VEVENT
BEGIN:VTIMEZONE
TZID:America/Costa_Rica
X-LIC-LOCATION:America/Costa_Rica
BEGIN:STANDARD
DTSTART:20220312T200000
TZOFFSETFROM:-0600
TZOFFSETTO:-0600
TZNAME:CST
END:STANDARD
END:VTIMEZONE
END:VCALENDAR