BEGIN:VCALENDAR
VERSION:2.0
PRODID:-//wp-events-plugin.com//7.0.4//EN
BEGIN:VEVENT
UID:39@oscarpino.com
DTSTART;TZID=America/Costa_Rica:20221202T200000
DTEND;TZID=America/Costa_Rica:20221202T220000
DTSTAMP:20221201T170052Z
URL:https://oscarpino.com/events/samadhi-barrio-escalante/
SUMMARY:Samadhi Barrio Escalante
DESCRIPTION:
LOCATION:Samadhi\, Samadhi \, Barrio Escalante\, San Jose\, Costa Rica
X-APPLE-STRUCTURED-LOCATION;VALUE=URI;X-ADDRESS=Samadhi \, Barrio Escalante
 \, San Jose\, Costa Rica;X-APPLE-RADIUS=100;X-TITLE=Samadhi:geo:0,0
END:VEVENT
BEGIN:VTIMEZONE
TZID:America/Costa_Rica
X-LIC-LOCATION:America/Costa_Rica
BEGIN:STANDARD
DTSTART:20211202T200000
TZOFFSETFROM:-0600
TZOFFSETTO:-0600
TZNAME:CST
END:STANDARD
END:VTIMEZONE
END:VCALENDAR