BEGIN:VCALENDAR
VERSION:2.0
PRODID:-//wp-events-plugin.com//7.0.4//EN
BEGIN:VEVENT
UID:89@oscarpino.com
DTSTART;TZID=America/Costa_Rica:20241030T193000
DTEND;TZID=America/Costa_Rica:20241030T203000
DTSTAMP:20240917T223500Z
URL:https://oscarpino.com/events/sala-santa-monica/
SUMMARY:Sala Santa Mónica
DESCRIPTION:
CATEGORIES:Live Music Venue
END:VEVENT
BEGIN:VTIMEZONE
TZID:America/Costa_Rica
X-LIC-LOCATION:America/Costa_Rica
BEGIN:STANDARD
DTSTART:20231031T193000
TZOFFSETFROM:-0600
TZOFFSETTO:-0600
TZNAME:CST
END:STANDARD
END:VTIMEZONE
END:VCALENDAR