BEGIN:VCALENDAR
VERSION:2.0
PRODID:-//wp-events-plugin.com//7.0.4//EN
BEGIN:VEVENT
UID:43@oscarpino.com
DTSTART;TZID=America/Costa_Rica:20230311T203000
DTEND;TZID=America/Costa_Rica:20230311T233000
DTSTAMP:20230308T235025Z
URL:https://oscarpino.com/events/restaurante-trova-bar-grill/
SUMMARY:Restaurante Trova Bar & Grill
DESCRIPTION:
CATEGORIES:Live Music Venue
LOCATION:Restaurante Trova Bar & Grill\, Frente al refugio de animales\, Sa
 n Rafael de Heredia\, Heredia\, Costa Rica
GEO:10.041616;-84.089913
X-APPLE-STRUCTURED-LOCATION;VALUE=URI;X-ADDRESS=Frente al refugio de animal
 es\, San Rafael de Heredia\, Heredia\, Costa Rica;X-APPLE-RADIUS=100;X-TIT
 LE=Restaurante Trova Bar & Grill:geo:10.041616,-84.089913
END:VEVENT
BEGIN:VTIMEZONE
TZID:America/Costa_Rica
X-LIC-LOCATION:America/Costa_Rica
BEGIN:STANDARD
DTSTART:20220311T203000
TZOFFSETFROM:-0600
TZOFFSETTO:-0600
TZNAME:CST
END:STANDARD
END:VTIMEZONE
END:VCALENDAR