BEGIN:VCALENDAR
VERSION:2.0
PRODID:-//wp-events-plugin.com//7.0.4//EN
BEGIN:VEVENT
UID:53@oscarpino.com
DTSTART;TZID=America/Costa_Rica:20230416T120000
DTEND;TZID=America/Costa_Rica:20230416T140000
DTSTAMP:20230417T160249Z
URL:https://oscarpino.com/events/querencia-centro-comercial-paco-escazu/
SUMMARY:Querencia - Centro Comercial Paco Escazu
DESCRIPTION:
CATEGORIES:Live Music Venue
LOCATION:La Querencia Restaurante Argentino Escazú\, Escazu\, San José\, 
 Costa Rica
X-APPLE-STRUCTURED-LOCATION;VALUE=URI;X-ADDRESS=Escazu\, San José\, Costa 
 Rica;X-APPLE-RADIUS=100;X-TITLE=La Querencia Restaurante Argentino Escazú
 :geo:0,0
END:VEVENT
BEGIN:VTIMEZONE
TZID:America/Costa_Rica
X-LIC-LOCATION:America/Costa_Rica
BEGIN:STANDARD
DTSTART:20220416T120000
TZOFFSETFROM:-0600
TZOFFSETTO:-0600
TZNAME:CST
END:STANDARD
END:VTIMEZONE
END:VCALENDAR