BEGIN:VCALENDAR
VERSION:2.0
PRODID:-//wp-events-plugin.com//7.0.4//EN
BEGIN:VEVENT
UID:103@oscarpino.com
DTSTART;TZID=America/Costa_Rica:20250419T190000
DTEND;TZID=America/Costa_Rica:20250419T210000
DTSTAMP:20250404T210449Z
URL:https://oscarpino.com/events/punta-leona-hicaco-grill-2/
SUMMARY:Punta Leona - Hicaco Grill
DESCRIPTION:
CATEGORIES:Live Music Venue
LOCATION:Hicaco Grill Punta Leona\, Contiguo a la entrada del Hotel Club Pu
 nta Leona\, Quebrada Ganado\, Provincia de Puntarenas\, Costa Rica
X-APPLE-STRUCTURED-LOCATION;VALUE=URI;X-ADDRESS=Contiguo a la entrada del H
 otel Club Punta Leona\, Quebrada Ganado\, Provincia de Puntarenas\, Costa 
 Rica;X-APPLE-RADIUS=100;X-TITLE=Hicaco Grill Punta Leona:geo:0,0
END:VEVENT
BEGIN:VTIMEZONE
TZID:America/Costa_Rica
X-LIC-LOCATION:America/Costa_Rica
BEGIN:STANDARD
DTSTART:20240419T190000
TZOFFSETFROM:-0600
TZOFFSETTO:-0600
TZNAME:CST
END:STANDARD
END:VTIMEZONE
END:VCALENDAR