BEGIN:VCALENDAR
VERSION:2.0
PRODID:-//wp-events-plugin.com//7.0.4//EN
BEGIN:VEVENT
UID:8@oscarpino.com
DTSTART;TZID=America/Costa_Rica:20210920T130000
DTEND;TZID=America/Costa_Rica:20210920T133000
DTSTAMP:20210719T153144Z
URL:https://oscarpino.com/events/private-event/
SUMMARY:Private Event
DESCRIPTION:
LOCATION:Private Event\, San José\, San José\, Costa Rica
X-APPLE-STRUCTURED-LOCATION;VALUE=URI;X-ADDRESS=San José\, San José\, Cos
 ta Rica;X-APPLE-RADIUS=100;X-TITLE=Private Event:geo:0,0
END:VEVENT
BEGIN:VTIMEZONE
TZID:America/Costa_Rica
X-LIC-LOCATION:America/Costa_Rica
BEGIN:STANDARD
DTSTART:20200920T130000
TZOFFSETFROM:-0600
TZOFFSETTO:-0600
TZNAME:CST
END:STANDARD
END:VTIMEZONE
END:VCALENDAR