BEGIN:VCALENDAR
VERSION:2.0
PRODID:-//wp-events-plugin.com//7.0.4//EN
BEGIN:VEVENT
UID:42@oscarpino.com
DTSTART;TZID=America/Costa_Rica:20230128T200000
DTEND;TZID=America/Costa_Rica:20230128T220000
DTSTAMP:20230127T194717Z
URL:https://oscarpino.com/events/prana-chill/
SUMMARY:Prana Chill
DESCRIPTION:RSVR_. 86633799. o 22683257
CATEGORIES:Live Music Venue
LOCATION:Prana\, 250 este de la cruz roja \, San Pablo\, Heredia\, 40901\, 
 Heredia Province\, Costa Rica\, Costa Rica
X-APPLE-STRUCTURED-LOCATION;VALUE=URI;X-ADDRESS=250 este de la cruz roja \,
  San Pablo\, Heredia\, 40901\, Heredia Province\, Costa Rica\, Costa Rica;
 X-APPLE-RADIUS=100;X-TITLE=Prana:geo:0,0
END:VEVENT
BEGIN:VTIMEZONE
TZID:America/Costa_Rica
X-LIC-LOCATION:America/Costa_Rica
BEGIN:STANDARD
DTSTART:20220128T200000
TZOFFSETFROM:-0600
TZOFFSETTO:-0600
TZNAME:CST
END:STANDARD
END:VTIMEZONE
END:VCALENDAR