BEGIN:VCALENDAR
VERSION:2.0
PRODID:-//wp-events-plugin.com//7.0.4//EN
BEGIN:VEVENT
UID:13@oscarpino.com
DTSTART;TZID=America/Costa_Rica:20211023T180000
DTEND;TZID=America/Costa_Rica:20211023T200000
DTSTAMP:20211005T221417Z
URL:https://oscarpino.com/events/pizza-la-finca/
SUMMARY:Pizza la Finca
DESCRIPTION:
LOCATION:La Finca\, Concepción de San Rafael\, San Rafael \, Heredia\, Her
 edia\, Costa Rica
X-APPLE-STRUCTURED-LOCATION;VALUE=URI;X-ADDRESS=Concepción de San Rafael\,
  San Rafael \, Heredia\, Heredia\, Costa Rica;X-APPLE-RADIUS=100;X-TITLE=L
 a Finca:geo:0,0
END:VEVENT
BEGIN:VTIMEZONE
TZID:America/Costa_Rica
X-LIC-LOCATION:America/Costa_Rica
BEGIN:STANDARD
DTSTART:20201023T180000
TZOFFSETFROM:-0600
TZOFFSETTO:-0600
TZNAME:CST
END:STANDARD
END:VTIMEZONE
END:VCALENDAR