BEGIN:VCALENDAR
VERSION:2.0
PRODID:-//wp-events-plugin.com//7.0.4//EN
BEGIN:VEVENT
UID:27@oscarpino.com
DTSTART;TZID=America/Costa_Rica:20221001T200000
DTEND;TZID=America/Costa_Rica:20221001T220000
DTSTAMP:20221004T220406Z
URL:https://oscarpino.com/events/pino-live-at-prana/
SUMMARY:Pino live at Prana!
DESCRIPTION:
LOCATION:Prana\, 250 este de la cruz roja \, San Pablo\, Heredia\, 40901\, 
 Heredia Province\, Costa Rica\, Costa Rica
X-APPLE-STRUCTURED-LOCATION;VALUE=URI;X-ADDRESS=250 este de la cruz roja \,
  San Pablo\, Heredia\, 40901\, Heredia Province\, Costa Rica\, Costa Rica;
 X-APPLE-RADIUS=100;X-TITLE=Prana:geo:0,0
END:VEVENT
BEGIN:VTIMEZONE
TZID:America/Costa_Rica
X-LIC-LOCATION:America/Costa_Rica
BEGIN:STANDARD
DTSTART:20211001T200000
TZOFFSETFROM:-0600
TZOFFSETTO:-0600
TZNAME:CST
END:STANDARD
END:VTIMEZONE
END:VCALENDAR