BEGIN:VCALENDAR
VERSION:2.0
PRODID:-//wp-events-plugin.com//7.0.4//EN
BEGIN:VEVENT
UID:80@oscarpino.com
DTSTART;TZID=America/Costa_Rica:20240214T190000
DTEND;TZID=America/Costa_Rica:20240214T210000
DTSTAMP:20240116T021818Z
URL:https://oscarpino.com/events/mar-y-tierra-la-cueva-del-cangrejo/
SUMMARY:Mar y Tierra - La Cueva del Cangrejo
DESCRIPTION:
CATEGORIES:Live Music Venue
END:VEVENT
BEGIN:VTIMEZONE
TZID:America/Costa_Rica
X-LIC-LOCATION:America/Costa_Rica
BEGIN:STANDARD
DTSTART:20230214T190000
TZOFFSETFROM:-0600
TZOFFSETTO:-0600
TZNAME:CST
END:STANDARD
END:VTIMEZONE
END:VCALENDAR