BEGIN:VCALENDAR
VERSION:2.0
PRODID:-//wp-events-plugin.com//7.0.4//EN
BEGIN:VEVENT
UID:65@oscarpino.com
DTSTART;TZID=America/Costa_Rica:20231027T200000
DTEND;TZID=America/Costa_Rica:20231027T220000
DTSTAMP:20230830T013300Z
URL:https://oscarpino.com/events/mall-metropoli-cartago/
SUMMARY:Mall Metropoli (Cartago)
DESCRIPTION:\n 	\n
CATEGORIES:Live Music Venue
LOCATION:Mall Metropoli\, Mall Metropoli Cartago\, Cartago\, Cartago\, Cost
 a Rica
GEO:9.867107;-83.942621
X-APPLE-STRUCTURED-LOCATION;VALUE=URI;X-ADDRESS=Mall Metropoli Cartago\, Ca
 rtago\, Cartago\, Costa Rica;X-APPLE-RADIUS=100;X-TITLE=Mall Metropoli:geo
 :9.867107,-83.942621
END:VEVENT
BEGIN:VTIMEZONE
TZID:America/Costa_Rica
X-LIC-LOCATION:America/Costa_Rica
BEGIN:STANDARD
DTSTART:20221027T200000
TZOFFSETFROM:-0600
TZOFFSETTO:-0600
TZNAME:CST
END:STANDARD
END:VTIMEZONE
END:VCALENDAR