BEGIN:VCALENDAR
VERSION:2.0
PRODID:-//wp-events-plugin.com//7.0.4//EN
BEGIN:VEVENT
UID:36@oscarpino.com
DTSTART;TZID=America/Costa_Rica:20221127T120000
DTEND;TZID=America/Costa_Rica:20221127T140000
DTSTAMP:20221121T202709Z
URL:https://oscarpino.com/events/live-la-querencia-pinares/
SUMMARY:Live @ La Querencia Pinares!
DESCRIPTION:No Cover.\, Reservaciones 4034 8374
LOCATION:La Querencia Pinares\, CC Utropica\, La Unión\,  La Unión\, Tres
  Rios\, Costa Rica
X-APPLE-STRUCTURED-LOCATION;VALUE=URI;X-ADDRESS=CC Utropica\, La Unión\,  
 La Unión\, Tres Rios\, Costa Rica;X-APPLE-RADIUS=100;X-TITLE=La Querencia
  Pinares:geo:0,0
END:VEVENT
BEGIN:VTIMEZONE
TZID:America/Costa_Rica
X-LIC-LOCATION:America/Costa_Rica
BEGIN:STANDARD
DTSTART:20211127T120000
TZOFFSETFROM:-0600
TZOFFSETTO:-0600
TZNAME:CST
END:STANDARD
END:VTIMEZONE
END:VCALENDAR