BEGIN:VCALENDAR
VERSION:2.0
PRODID:-//wp-events-plugin.com//7.0.4//EN
BEGIN:VEVENT
UID:17@oscarpino.com
DTSTART;TZID=America/Costa_Rica:20220214T190000
DTEND;TZID=America/Costa_Rica:20220214T210000
DTSTAMP:20220220T214034Z
URL:https://oscarpino.com/events/live-at-querencia-pinares/
SUMMARY:Live at Querencia Pinares
DESCRIPTION:
LOCATION:Restaurante Argentino La Querencia Pinares\, Pinares\, Tres Ríos\
 , Costa Rica
X-APPLE-STRUCTURED-LOCATION;VALUE=URI;X-ADDRESS=Pinares\, Tres Ríos\, Cost
 a Rica;X-APPLE-RADIUS=100;X-TITLE=Restaurante Argentino La Querencia Pinar
 es:geo:0,0
END:VEVENT
BEGIN:VTIMEZONE
TZID:America/Costa_Rica
X-LIC-LOCATION:America/Costa_Rica
BEGIN:STANDARD
DTSTART:20210214T190000
TZOFFSETFROM:-0600
TZOFFSETTO:-0600
TZNAME:CST
END:STANDARD
END:VTIMEZONE
END:VCALENDAR