BEGIN:VCALENDAR
VERSION:2.0
PRODID:-//wp-events-plugin.com//7.0.4//EN
BEGIN:VEVENT
UID:18@oscarpino.com
DTSTART;TZID=America/Costa_Rica:20220218T200000
DTEND;TZID=America/Costa_Rica:20220218T220000
DTSTAMP:20220220T214441Z
URL:https://oscarpino.com/events/live-at-green-room-the-house-of-music-jac
 o/
SUMMARY:Live at Green Room - The House of Music Jacó
DESCRIPTION:+506 2643-4425 | +506 6478-7393 (Whatsapp) Calle Casino Cocal F
 rente Oficinas Del ICE\, Provincia de Puntarenas\, Jacó\, 61101
LOCATION:Green Room Jaco\, Calle Casino Cocal Frente Oficinas Del ICE\, Pro
 vincia de Puntarenas\, Jacó\, 61101\, Jaco\, Puntarenas\, Costa Rica
X-APPLE-STRUCTURED-LOCATION;VALUE=URI;X-ADDRESS=Calle Casino Cocal Frente O
 ficinas Del ICE\, Provincia de Puntarenas\, Jacó\, 61101\, Jaco\, Puntare
 nas\, Costa Rica;X-APPLE-RADIUS=100;X-TITLE=Green Room Jaco:geo:0,0
END:VEVENT
BEGIN:VTIMEZONE
TZID:America/Costa_Rica
X-LIC-LOCATION:America/Costa_Rica
BEGIN:STANDARD
DTSTART:20210218T200000
TZOFFSETFROM:-0600
TZOFFSETTO:-0600
TZNAME:CST
END:STANDARD
END:VTIMEZONE
END:VCALENDAR