BEGIN:VCALENDAR
VERSION:2.0
PRODID:-//wp-events-plugin.com//7.0.4//EN
BEGIN:VEVENT
UID:19@oscarpino.com
DTSTART;TZID=America/Costa_Rica:20220513T200000
DTEND;TZID=America/Costa_Rica:20220513T220000
DTSTAMP:20220510T131009Z
URL:https://oscarpino.com/events/live-at-green-room-cafe-jaco/
SUMMARY:Live at Green Room Café Jaco
DESCRIPTION:
LOCATION:Green Room Café\, Calle Casino Cocal Frente Oficinas Del ICE\, Pr
 ovincia de Puntarenas\, \, Jacó\, 61101\, Costa Rica
X-APPLE-STRUCTURED-LOCATION;VALUE=URI;X-ADDRESS=Calle Casino Cocal Frente O
 ficinas Del ICE\, Provincia de Puntarenas\, \, Jacó\, 61101\, Costa Rica;
 X-APPLE-RADIUS=100;X-TITLE=Green Room Café:geo:0,0
END:VEVENT
BEGIN:VTIMEZONE
TZID:America/Costa_Rica
X-LIC-LOCATION:America/Costa_Rica
BEGIN:STANDARD
DTSTART:20210513T200000
TZOFFSETFROM:-0600
TZOFFSETTO:-0600
TZNAME:CST
END:STANDARD
END:VTIMEZONE
END:VCALENDAR