BEGIN:VCALENDAR
VERSION:2.0
PRODID:-//wp-events-plugin.com//7.0.4//EN
BEGIN:VEVENT
UID:7@oscarpino.com
DTSTART;TZID=America/Costa_Rica:20211216T180000
DTEND;TZID=America/Costa_Rica:20211216T200000
DTSTAMP:20210719T152950Z
URL:https://oscarpino.com/events/live-at-flying-saucer/
SUMMARY:Live at Flying Saucer
DESCRIPTION:
LOCATION:Uvita Beach\, Uvita\, Puntarenas\, Costa Rica
X-APPLE-STRUCTURED-LOCATION;VALUE=URI;X-ADDRESS=Uvita\, Puntarenas\, Costa 
 Rica;X-APPLE-RADIUS=100;X-TITLE=Uvita Beach:geo:0,0
END:VEVENT
BEGIN:VTIMEZONE
TZID:America/Costa_Rica
X-LIC-LOCATION:America/Costa_Rica
BEGIN:STANDARD
DTSTART:20201216T180000
TZOFFSETFROM:-0600
TZOFFSETTO:-0600
TZNAME:CST
END:STANDARD
END:VTIMEZONE
END:VCALENDAR