BEGIN:VCALENDAR
VERSION:2.0
PRODID:-//wp-events-plugin.com//7.0.4//EN
BEGIN:VEVENT
UID:28@oscarpino.com
DTSTART;TZID=America/Costa_Rica:20221002T100000
DTEND;TZID=America/Costa_Rica:20221002T120000
DTSTAMP:20221004T220801Z
URL:https://oscarpino.com/events/la-querencia-sunday-brunch/
SUMMARY:La Querencia - Sunday Brunch
DESCRIPTION:
LOCATION:La Querencia Pinares\, CC Utropica\, La Unión\,  La Unión\, Tres
  Rios\, Costa Rica
X-APPLE-STRUCTURED-LOCATION;VALUE=URI;X-ADDRESS=CC Utropica\, La Unión\,  
 La Unión\, Tres Rios\, Costa Rica;X-APPLE-RADIUS=100;X-TITLE=La Querencia
  Pinares:geo:0,0
END:VEVENT
BEGIN:VTIMEZONE
TZID:America/Costa_Rica
X-LIC-LOCATION:America/Costa_Rica
BEGIN:STANDARD
DTSTART:20211002T100000
TZOFFSETFROM:-0600
TZOFFSETTO:-0600
TZNAME:CST
END:STANDARD
END:VTIMEZONE
END:VCALENDAR