BEGIN:VCALENDAR
VERSION:2.0
PRODID:-//wp-events-plugin.com//7.0.4//EN
BEGIN:VEVENT
UID:24@oscarpino.com
DTSTART;TZID=America/Costa_Rica:20220827T193000
DTEND;TZID=America/Costa_Rica:20220827T213000
DTSTAMP:20220824T132433Z
URL:https://oscarpino.com/events/la-finca/
SUMMARY:La Finca!
DESCRIPTION:
LOCATION:Restaurante Pizza la Finca\, Concepción de San Rafael de Heredia\
 , San Rafael \, Heredia\, Costa Rica
X-APPLE-STRUCTURED-LOCATION;VALUE=URI;X-ADDRESS=Concepción de San Rafael d
 e Heredia\, San Rafael \, Heredia\, Costa Rica;X-APPLE-RADIUS=100;X-TITLE=
 Restaurante Pizza la Finca:geo:0,0
END:VEVENT
BEGIN:VTIMEZONE
TZID:America/Costa_Rica
X-LIC-LOCATION:America/Costa_Rica
BEGIN:STANDARD
DTSTART:20210827T193000
TZOFFSETFROM:-0600
TZOFFSETTO:-0600
TZNAME:CST
END:STANDARD
END:VTIMEZONE
END:VCALENDAR