BEGIN:VCALENDAR
VERSION:2.0
PRODID:-//wp-events-plugin.com//7.0.4//EN
BEGIN:VEVENT
UID:91@oscarpino.com
DTSTART;TZID=America/Costa_Rica:20241121T200000
DTEND;TZID=America/Costa_Rica:20241121T220000
DTSTAMP:20240918T232038Z
URL:https://oscarpino.com/events/la-casa-del-rio/
SUMMARY:La Casa del Río
DESCRIPTION:
CATEGORIES:Live Music Venue
LOCATION:San Rafael de Heredia\, San Rafael de Heredia\, Los Angeles\, Cost
 a Rica
X-APPLE-STRUCTURED-LOCATION;VALUE=URI;X-ADDRESS=San Rafael de Heredia\, Los
  Angeles\, Costa Rica;X-APPLE-RADIUS=100;X-TITLE=San Rafael de Heredia:geo
 :0,0
END:VEVENT
BEGIN:VTIMEZONE
TZID:America/Costa_Rica
X-LIC-LOCATION:America/Costa_Rica
BEGIN:STANDARD
DTSTART:20231122T200000
TZOFFSETFROM:-0600
TZOFFSETTO:-0600
TZNAME:CST
END:STANDARD
END:VTIMEZONE
END:VCALENDAR