BEGIN:VCALENDAR
VERSION:2.0
PRODID:-//wp-events-plugin.com//7.0.4//EN
BEGIN:VEVENT
UID:29@oscarpino.com
DTSTART;TZID=America/Costa_Rica:20221007T190000
DTEND;TZID=America/Costa_Rica:20221007T210000
DTSTAMP:20221004T221324Z
URL:https://oscarpino.com/events/keylargo-festival-de-cantautores-con-vale
 ria-atkeys/
SUMMARY:KeyLargo Festival de Cantautores con Valeria Atkeys
DESCRIPTION:
LOCATION:Centro Cultural Key Largo\, San José\, San José\, Carmen\, San J
 ose\, Costa Rica
X-APPLE-STRUCTURED-LOCATION;VALUE=URI;X-ADDRESS=San José\, San José\, Car
 men\, San Jose\, Costa Rica;X-APPLE-RADIUS=100;X-TITLE=Centro Cultural Key
  Largo:geo:0,0
END:VEVENT
BEGIN:VTIMEZONE
TZID:America/Costa_Rica
X-LIC-LOCATION:America/Costa_Rica
BEGIN:STANDARD
DTSTART:20211007T190000
TZOFFSETFROM:-0600
TZOFFSETTO:-0600
TZNAME:CST
END:STANDARD
END:VTIMEZONE
END:VCALENDAR