BEGIN:VCALENDAR
VERSION:2.0
PRODID:-//wp-events-plugin.com//7.0.4//EN
BEGIN:VEVENT
UID:5@oscarpino.com
DTSTART;TZID=America/Costa_Rica:20210401T200000
DTEND;TZID=America/Costa_Rica:20210401T210000
DTSTAMP:20210719T055428Z
URL:https://oscarpino.com/events/jeffs-wine-house/
SUMMARY:Jeff´s Wine House
DESCRIPTION:
LOCATION:100 S. Res. Asturias\, San Carlos\, Alajuela\, Costa Rica
X-APPLE-STRUCTURED-LOCATION;VALUE=URI;X-ADDRESS=San Carlos\, Alajuela\, Cos
 ta Rica;X-APPLE-RADIUS=100;X-TITLE=100 S. Res. Asturias:geo:0,0
END:VEVENT
BEGIN:VTIMEZONE
TZID:America/Costa_Rica
X-LIC-LOCATION:America/Costa_Rica
BEGIN:STANDARD
DTSTART:20200401T200000
TZOFFSETFROM:-0600
TZOFFSETTO:-0600
TZNAME:CST
END:STANDARD
END:VTIMEZONE
END:VCALENDAR