BEGIN:VCALENDAR
VERSION:2.0
PRODID:-//wp-events-plugin.com//7.0.4//EN
BEGIN:VEVENT
UID:79@oscarpino.com
DTSTART;TZID=America/Costa_Rica:20240119T170000
DTEND;TZID=America/Costa_Rica:20240119T193000
DTSTAMP:20240116T020859Z
URL:https://oscarpino.com/events/jeff-50-santa-ana/
SUMMARY:Jeff 50 - Santa Ana
DESCRIPTION:
CATEGORIES:Live Music Venue
END:VEVENT
BEGIN:VTIMEZONE
TZID:America/Costa_Rica
X-LIC-LOCATION:America/Costa_Rica
BEGIN:STANDARD
DTSTART:20230119T170000
TZOFFSETFROM:-0600
TZOFFSETTO:-0600
TZNAME:CST
END:STANDARD
END:VTIMEZONE
END:VCALENDAR