BEGIN:VCALENDAR
VERSION:2.0
PRODID:-//wp-events-plugin.com//7.0.4//EN
BEGIN:VEVENT
UID:23@oscarpino.com
DTSTART;TZID=America/Costa_Rica:20220819T200000
DTEND;TZID=America/Costa_Rica:20220819T220000
DTSTAMP:20220819T230024Z
URL:https://oscarpino.com/events/invictus-restaurant-lounge/
SUMMARY:Invictus Restaurant & Lounge
DESCRIPTION:
LOCATION:Invictus Restaurant & Lounge\, escazu\, Escazu\, San Jose\, Costa 
 Rica
X-APPLE-STRUCTURED-LOCATION;VALUE=URI;X-ADDRESS=escazu\, Escazu\, San Jose\
 , Costa Rica;X-APPLE-RADIUS=100;X-TITLE=Invictus Restaurant & Lounge:geo:0
 ,0
END:VEVENT
BEGIN:VTIMEZONE
TZID:America/Costa_Rica
X-LIC-LOCATION:America/Costa_Rica
BEGIN:STANDARD
DTSTART:20210819T200000
TZOFFSETFROM:-0600
TZOFFSETTO:-0600
TZNAME:CST
END:STANDARD
END:VTIMEZONE
END:VCALENDAR