BEGIN:VCALENDAR
VERSION:2.0
PRODID:-//wp-events-plugin.com//7.0.4//EN
BEGIN:VEVENT
UID:100@oscarpino.com
DTSTART;TZID=America/Costa_Rica:20250214T190000
DTEND;TZID=America/Costa_Rica:20250214T220000
DTSTAMP:20250128T191844Z
URL:https://oscarpino.com/events/inaguracion-sala-santa-monica-con-adrian-
 goizueta-y-el-experimental/
SUMMARY:Inaguración Sala Santa Mónica con Adrian Goizueta y el Experiment
 al.
DESCRIPTION:
CATEGORIES:Live Music Venue
LOCATION:Sala de Eventos Santa Monica Sarchi de Alajuela\, Sala de Eventos 
 Santa Monica Sarchí de Alajuela\, Sarchi\, Alajuela\, Costa Rica
X-APPLE-STRUCTURED-LOCATION;VALUE=URI;X-ADDRESS=Sala de Eventos Santa Monic
 a Sarchí de Alajuela\, Sarchi\, Alajuela\, Costa Rica;X-APPLE-RADIUS=100;
 X-TITLE=Sala de Eventos Santa Monica Sarchi de Alajuela:geo:0,0
END:VEVENT
BEGIN:VTIMEZONE
TZID:America/Costa_Rica
X-LIC-LOCATION:America/Costa_Rica
BEGIN:STANDARD
DTSTART:20240215T190000
TZOFFSETFROM:-0600
TZOFFSETTO:-0600
TZNAME:CST
END:STANDARD
END:VTIMEZONE
END:VCALENDAR