BEGIN:VCALENDAR
VERSION:2.0
PRODID:-//wp-events-plugin.com//7.0.4//EN
BEGIN:VEVENT
UID:48@oscarpino.com
DTSTART;TZID=America/Costa_Rica:20230512T200000
DTEND;TZID=America/Costa_Rica:20230512T220000
DTSTAMP:20230411T115248Z
URL:https://oscarpino.com/events/il-padrino/
SUMMARY:Il Padrino
DESCRIPTION:
CATEGORIES:Live Music Venue
LOCATION:Il Padrino Pavas\, Carretera a Pavas\, San Jose\, San Jose\, Costa
  Rica
GEO:9.945407;-84.127682
X-APPLE-STRUCTURED-LOCATION;VALUE=URI;X-ADDRESS=Carretera a Pavas\, San Jos
 e\, San Jose\, Costa Rica;X-APPLE-RADIUS=100;X-TITLE=Il Padrino Pavas:geo:
 9.945407,-84.127682
END:VEVENT
BEGIN:VTIMEZONE
TZID:America/Costa_Rica
X-LIC-LOCATION:America/Costa_Rica
BEGIN:STANDARD
DTSTART:20220512T200000
TZOFFSETFROM:-0600
TZOFFSETTO:-0600
TZNAME:CST
END:STANDARD
END:VTIMEZONE
END:VCALENDAR