BEGIN:VCALENDAR
VERSION:2.0
PRODID:-//wp-events-plugin.com//7.0.4//EN
BEGIN:VEVENT
UID:97@oscarpino.com
DTSTART;TZID=America/Costa_Rica:20250208T190000
DTEND;TZID=America/Costa_Rica:20250208T210000
DTSTAMP:20250118T002449Z
URL:https://oscarpino.com/events/hicaco-plaza-nota-es-hicaco-plaza-no-hica
 co-playa/
SUMMARY:Hicaco Plaza (Nota: es Hicaco Playa no Hicaco Plaza)
DESCRIPTION:
CATEGORIES:Live Music Venue
LOCATION:Hicaco Plaza Jaco\, J9C7+9RC Plaza\, Puntarenas Province\, Jaco\, 
 Barrio Santa Lucía\, Jaco\, Puntarenas\, Costa Rica
X-APPLE-STRUCTURED-LOCATION;VALUE=URI;X-ADDRESS=J9C7+9RC Plaza\, Puntarenas
  Province\, Jaco\, Barrio Santa Lucía\, Jaco\, Puntarenas\, Costa Rica;X-
 APPLE-RADIUS=100;X-TITLE=Hicaco Plaza Jaco:geo:0,0
END:VEVENT
BEGIN:VTIMEZONE
TZID:America/Costa_Rica
X-LIC-LOCATION:America/Costa_Rica
BEGIN:STANDARD
DTSTART:20240209T190000
TZOFFSETFROM:-0600
TZOFFSETTO:-0600
TZNAME:CST
END:STANDARD
END:VTIMEZONE
END:VCALENDAR