BEGIN:VCALENDAR
VERSION:2.0
PRODID:-//wp-events-plugin.com//7.0.4//EN
BEGIN:VEVENT
UID:106@oscarpino.com
DTSTART;TZID=America/Costa_Rica:20250523T190000
DTEND;TZID=America/Costa_Rica:20250523T210000
DTSTAMP:20250404T211140Z
URL:https://oscarpino.com/events/hicaco-playa-jaco-5/
SUMMARY:Hicaco Playa Jaco
DESCRIPTION:
CATEGORIES:Live Music Venue
LOCATION:Hicaco Playa Jaco\, 50 mts Sur\, 50 mts Oeste del Mas x Menos\, Ja
 co\, Puntarenas\, 61101\, Costa Rica
X-APPLE-STRUCTURED-LOCATION;VALUE=URI;X-ADDRESS=50 mts Sur\, 50 mts Oeste d
 el Mas x Menos\, Jaco\, Puntarenas\, 61101\, Costa Rica;X-APPLE-RADIUS=100
 ;X-TITLE=Hicaco Playa Jaco:geo:0,0
END:VEVENT
BEGIN:VTIMEZONE
TZID:America/Costa_Rica
X-LIC-LOCATION:America/Costa_Rica
BEGIN:STANDARD
DTSTART:20240523T190000
TZOFFSETFROM:-0600
TZOFFSETTO:-0600
TZNAME:CST
END:STANDARD
END:VTIMEZONE
END:VCALENDAR