BEGIN:VCALENDAR
VERSION:2.0
PRODID:-//wp-events-plugin.com//7.0.4//EN
BEGIN:VEVENT
UID:93@oscarpino.com
DTSTART;TZID=America/Costa_Rica:20241206T070000
DTEND;TZID=America/Costa_Rica:20241206T090000
DTSTAMP:20241119T153320Z
URL:https://oscarpino.com/events/hicaco-jaco-beach/
SUMMARY:Hicaco Jaco Beach
DESCRIPTION:
CATEGORIES:Live Music Venue
LOCATION:Hicaco Playa Jaco\, 50 mts Sur\, 50 mts Oeste del Mas x Menos\, Ja
 co\, Puntarenas\, 61101\, Costa Rica
X-APPLE-STRUCTURED-LOCATION;VALUE=URI;X-ADDRESS=50 mts Sur\, 50 mts Oeste d
 el Mas x Menos\, Jaco\, Puntarenas\, 61101\, Costa Rica;X-APPLE-RADIUS=100
 ;X-TITLE=Hicaco Playa Jaco:geo:0,0
END:VEVENT
BEGIN:VTIMEZONE
TZID:America/Costa_Rica
X-LIC-LOCATION:America/Costa_Rica
BEGIN:STANDARD
DTSTART:20231207T070000
TZOFFSETFROM:-0600
TZOFFSETTO:-0600
TZNAME:CST
END:STANDARD
END:VTIMEZONE
END:VCALENDAR