BEGIN:VCALENDAR
VERSION:2.0
PRODID:-//wp-events-plugin.com//7.0.4//EN
BEGIN:VEVENT
UID:21@oscarpino.com
DTSTART;TZID=America/Costa_Rica:20220722T203000
DTEND;TZID=America/Costa_Rica:20220722T223000
DTSTAMP:20220617T192806Z
URL:https://oscarpino.com/events/greenroomjuly22/
SUMMARY:Green Room Café
DESCRIPTION:
LOCATION:Green Room Café\, Jaco \, Jaco\, Costa Rica
GEO:9.62024;-84.621749
X-APPLE-STRUCTURED-LOCATION;VALUE=URI;X-ADDRESS=Jaco \, Jaco\, Costa Rica;X
 -APPLE-RADIUS=100;X-TITLE=Green Room Café:geo:9.62024,-84.621749
END:VEVENT
BEGIN:VTIMEZONE
TZID:America/Costa_Rica
X-LIC-LOCATION:America/Costa_Rica
BEGIN:STANDARD
DTSTART:20210722T203000
TZOFFSETFROM:-0600
TZOFFSETTO:-0600
TZNAME:CST
END:STANDARD
END:VTIMEZONE
END:VCALENDAR