BEGIN:VCALENDAR
VERSION:2.0
PRODID:-//wp-events-plugin.com//7.0.4//EN
BEGIN:VEVENT
UID:90@oscarpino.com
DTSTART;TZID=America/Costa_Rica:20250405T160000
DTEND;TZID=America/Costa_Rica:20250405T180000
DTSTAMP:20250220T234052Z
URL:https://oscarpino.com/events/gardens-of-la-paz/
SUMMARY:Gardens of La Paz
DESCRIPTION:
CATEGORIES:Live Music Venue
LOCATION:Los Delfines\, Tambor Puntarenas\, Tambor\, Costa Rica
X-APPLE-STRUCTURED-LOCATION;VALUE=URI;X-ADDRESS=Tambor Puntarenas\, Tambor\
 , Costa Rica;X-APPLE-RADIUS=100;X-TITLE=Los Delfines:geo:0,0
END:VEVENT
BEGIN:VTIMEZONE
TZID:America/Costa_Rica
X-LIC-LOCATION:America/Costa_Rica
BEGIN:STANDARD
DTSTART:20240405T160000
TZOFFSETFROM:-0600
TZOFFSETTO:-0600
TZNAME:CST
END:STANDARD
END:VTIMEZONE
END:VCALENDAR