BEGIN:VCALENDAR
VERSION:2.0
PRODID:-//wp-events-plugin.com//7.0.4//EN
BEGIN:VEVENT
UID:108@oscarpino.com
DTSTART;TZID=America/Costa_Rica:20260117T160000
DTEND;TZID=America/Costa_Rica:20260117T174500
DTSTAMP:20260323T154545Z
URL:https://oscarpino.com/events/gardens-of-la-paz-2/
SUMMARY:Gardens of La Paz
DESCRIPTION:
CATEGORIES:Live Music Venue
LOCATION:Gardens of La Paz\, Playa Tambor\, Los Delfines\, Paya Tambor\, Pu
 ntarenas\, Playa Tambor\, Puntarenas\, Costa Rica
GEO:9.746952;-85.012436
X-APPLE-STRUCTURED-LOCATION;VALUE=URI;X-ADDRESS=Los Delfines\, Paya Tambor\
 , Puntarenas\, Playa Tambor\, Puntarenas\, Costa Rica;X-APPLE-RADIUS=100;X
 -TITLE=Gardens of La Paz\, Playa Tambor:geo:9.746952,-85.012436
END:VEVENT
BEGIN:VTIMEZONE
TZID:America/Costa_Rica
X-LIC-LOCATION:America/Costa_Rica
BEGIN:STANDARD
DTSTART:20250117T160000
TZOFFSETFROM:-0600
TZOFFSETTO:-0600
TZNAME:CST
END:STANDARD
END:VTIMEZONE
END:VCALENDAR