BEGIN:VCALENDAR
VERSION:2.0
PRODID:-//wp-events-plugin.com//7.0.4//EN
BEGIN:VEVENT
UID:45@oscarpino.com
DTSTART;TZID=America/Costa_Rica:20230421T180000
DTEND;TZID=America/Costa_Rica:20230421T193000
DTSTAMP:20230325T004755Z
URL:https://oscarpino.com/events/francos/
SUMMARY:Franco´s
DESCRIPTION:
CATEGORIES:Live Music Venue
LOCATION:Franco´s Venue\, Heredia\, Sacramento\, Costa Rica
GEO:10.109634;-84.12146
X-APPLE-STRUCTURED-LOCATION;VALUE=URI;X-ADDRESS=Heredia\, Sacramento\, Cost
 a Rica;X-APPLE-RADIUS=100;X-TITLE=Franco´s Venue:geo:10.109634,-84.12146
END:VEVENT
BEGIN:VTIMEZONE
TZID:America/Costa_Rica
X-LIC-LOCATION:America/Costa_Rica
BEGIN:STANDARD
DTSTART:20220421T180000
TZOFFSETFROM:-0600
TZOFFSETTO:-0600
TZNAME:CST
END:STANDARD
END:VTIMEZONE
END:VCALENDAR