BEGIN:VCALENDAR
VERSION:2.0
PRODID:-//wp-events-plugin.com//7.0.4//EN
BEGIN:VEVENT
UID:92@oscarpino.com
DTSTART;TZID=America/Costa_Rica:20250219T190000
DTEND;TZID=America/Costa_Rica:20250219T200000
DTSTAMP:20240918T233450Z
URL:https://oscarpino.com/events/folk-alliance-conference/
SUMMARY:Folk Alliance Conference
DESCRIPTION:
CATEGORIES:Live Music Venue
LOCATION:Fairmont The Queen Elizabeth\, 900 Rene Levesque Boulevard West\, 
 \, Montreal\, \, QC\, \, Canada
X-APPLE-STRUCTURED-LOCATION;VALUE=URI;X-ADDRESS=900 Rene Levesque Boulevard
  West\, \, Montreal\, \, QC\, \, Canada;X-APPLE-RADIUS=100;X-TITLE=Fairmon
 t The Queen Elizabeth:geo:0,0
END:VEVENT
BEGIN:VTIMEZONE
TZID:America/Costa_Rica
X-LIC-LOCATION:America/Costa_Rica
BEGIN:STANDARD
DTSTART:20240220T190000
TZOFFSETFROM:-0600
TZOFFSETTO:-0600
TZNAME:CST
END:STANDARD
END:VTIMEZONE
END:VCALENDAR