BEGIN:VCALENDAR
VERSION:2.0
PRODID:-//wp-events-plugin.com//7.0.4//EN
BEGIN:VEVENT
UID:22@oscarpino.com
DTSTART;TZID=America/Costa_Rica:20220704T100000
DTEND;TZID=America/Costa_Rica:20220704T110000
DTSTAMP:20220617T193104Z
URL:https://oscarpino.com/events/feria-de-la-salud-ande/
SUMMARY:Feria de la Salud ANDE
DESCRIPTION:Asociados de ANDE y Accionistas de Caja De ANDE
LOCATION:CIC ANDE\,\, San Antonio de Belén\,\, Heredia\, Costa Rica
GEO:9.979964;-84.185318
X-APPLE-STRUCTURED-LOCATION;VALUE=URI;X-ADDRESS=San Antonio de Belén\,\, H
 eredia\, Costa Rica;X-APPLE-RADIUS=100;X-TITLE=CIC ANDE\,:geo:9.979964,-84
 .185318
END:VEVENT
BEGIN:VTIMEZONE
TZID:America/Costa_Rica
X-LIC-LOCATION:America/Costa_Rica
BEGIN:STANDARD
DTSTART:20210704T100000
TZOFFSETFROM:-0600
TZOFFSETTO:-0600
TZNAME:CST
END:STANDARD
END:VTIMEZONE
END:VCALENDAR