BEGIN:VCALENDAR
VERSION:2.0
PRODID:-//wp-events-plugin.com//7.0.4//EN
BEGIN:VEVENT
UID:55@oscarpino.com
DTSTART;TZID=America/Costa_Rica:20230610T120000
DTEND;TZID=America/Costa_Rica:20230610T140000
DTSTAMP:20230417T161652Z
URL:https://oscarpino.com/events/evento-privado/
SUMMARY:KUK Open Kitchen - Evento Privado
DESCRIPTION:
CATEGORIES:Live Music Venue
LOCATION:Concasa KUK\, Concasa La Guacima\, Guacima\, Costa Rica
GEO:9.957964;-84.225867
X-APPLE-STRUCTURED-LOCATION;VALUE=URI;X-ADDRESS=Concasa La Guacima\, Guacim
 a\, Costa Rica;X-APPLE-RADIUS=100;X-TITLE=Concasa KUK:geo:9.957964,-84.225
 867
END:VEVENT
BEGIN:VTIMEZONE
TZID:America/Costa_Rica
X-LIC-LOCATION:America/Costa_Rica
BEGIN:STANDARD
DTSTART:20220610T120000
TZOFFSETFROM:-0600
TZOFFSETTO:-0600
TZNAME:CST
END:STANDARD
END:VTIMEZONE
END:VCALENDAR