BEGIN:VCALENDAR
VERSION:2.0
PRODID:-//wp-events-plugin.com//7.0.4//EN
BEGIN:VEVENT
UID:35@oscarpino.com
DTSTART;TZID=America/Costa_Rica:20221217T180000
DTEND;TZID=America/Costa_Rica:20221217T193000
DTSTAMP:20221112T011832Z
URL:https://oscarpino.com/events/evento-privado-san-isidro-de-heredia/
SUMMARY:Evento Privado - San Isidro de Heredia
DESCRIPTION:
LOCATION:Ana San Isidro de Heredia\, San\, Isidro de Heredia\, Costa Rica
X-APPLE-STRUCTURED-LOCATION;VALUE=URI;X-ADDRESS=San\, Isidro de Heredia\, C
 osta Rica;X-APPLE-RADIUS=100;X-TITLE=Ana San Isidro de Heredia:geo:0,0
END:VEVENT
BEGIN:VTIMEZONE
TZID:America/Costa_Rica
X-LIC-LOCATION:America/Costa_Rica
BEGIN:STANDARD
DTSTART:20211217T180000
TZOFFSETFROM:-0600
TZOFFSETTO:-0600
TZNAME:CST
END:STANDARD
END:VTIMEZONE
END:VCALENDAR