BEGIN:VCALENDAR
VERSION:2.0
PRODID:-//wp-events-plugin.com//7.0.4//EN
BEGIN:VEVENT
UID:25@oscarpino.com
DTSTART;TZID=America/Costa_Rica:20220904T180000
DTEND;TZID=America/Costa_Rica:20220904T200000
DTSTAMP:20220824T204536Z
URL:https://oscarpino.com/events/en-beneficio-al-concurso-nacional-de-guit
 arra/
SUMMARY:En Beneficio al Concurso Nacional de Guitarra
DESCRIPTION:
LOCATION:Secret Location Escazu\, Escazú\, San Jose\, Costa Rica
X-APPLE-STRUCTURED-LOCATION;VALUE=URI;X-ADDRESS=Escazú\, San Jose\, Costa 
 Rica;X-APPLE-RADIUS=100;X-TITLE=Secret Location Escazu:geo:0,0
END:VEVENT
BEGIN:VTIMEZONE
TZID:America/Costa_Rica
X-LIC-LOCATION:America/Costa_Rica
BEGIN:STANDARD
DTSTART:20210904T180000
TZOFFSETFROM:-0600
TZOFFSETTO:-0600
TZNAME:CST
END:STANDARD
END:VTIMEZONE
END:VCALENDAR