BEGIN:VCALENDAR
VERSION:2.0
PRODID:-//wp-events-plugin.com//7.0.4//EN
BEGIN:VEVENT
UID:52@oscarpino.com
DTSTART;TZID=America/Costa_Rica:20230616T200000
DTEND;TZID=America/Costa_Rica:20230616T220000
DTSTAMP:20230417T161022Z
URL:https://oscarpino.com/events/el-sotano/
SUMMARY:El Sotano - Amón
DESCRIPTION:
CATEGORIES:Live Music Venue
LOCATION:Amon - El Sotano\, El Sotano Barrio Amón\, San Jose\, Costa Rica
GEO:9.9386;-84.0772
X-APPLE-STRUCTURED-LOCATION;VALUE=URI;X-ADDRESS=El Sotano Barrio Amón\, Sa
 n Jose\, Costa Rica;X-APPLE-RADIUS=100;X-TITLE=Amon - El Sotano:geo:9.9386
 ,-84.0772
END:VEVENT
BEGIN:VTIMEZONE
TZID:America/Costa_Rica
X-LIC-LOCATION:America/Costa_Rica
BEGIN:STANDARD
DTSTART:20220616T200000
TZOFFSETFROM:-0600
TZOFFSETTO:-0600
TZNAME:CST
END:STANDARD
END:VTIMEZONE
END:VCALENDAR