BEGIN:VCALENDAR
VERSION:2.0
PRODID:-//wp-events-plugin.com//7.0.4//EN
BEGIN:VEVENT
UID:47@oscarpino.com
DTSTART;TZID=America/Costa_Rica:20230422T210000
DTEND;TZID=America/Costa_Rica:20230422T230000
DTSTAMP:20230325T210919Z
URL:https://oscarpino.com/events/el-refugio-san-pedro/
SUMMARY:El Refugio - San Pedro
DESCRIPTION:
CATEGORIES:Live Music Venue
END:VEVENT
BEGIN:VTIMEZONE
TZID:America/Costa_Rica
X-LIC-LOCATION:America/Costa_Rica
BEGIN:STANDARD
DTSTART:20220422T210000
TZOFFSETFROM:-0600
TZOFFSETTO:-0600
TZNAME:CST
END:STANDARD
END:VTIMEZONE
END:VCALENDAR