BEGIN:VCALENDAR
VERSION:2.0
PRODID:-//wp-events-plugin.com//7.0.4//EN
BEGIN:VEVENT
UID:59@oscarpino.com
DTSTART;TZID=America/Costa_Rica:20230715T210000
DTEND;TZID=America/Costa_Rica:20230715T233000
DTSTAMP:20230503T165511Z
URL:https://oscarpino.com/events/el-refugio-restobar-2/
SUMMARY:El Refugio RestoBar
DESCRIPTION:
CATEGORIES:Live Music Venue
LOCATION:El Refugio RestoBar\, Address: el Higueron\, La Granja\, \,  San P
 edro\, San José\, Costa Rica
GEO:9.930821;-84.046886
X-APPLE-STRUCTURED-LOCATION;VALUE=URI;X-ADDRESS=Address: el Higueron\, La G
 ranja\, \,  San Pedro\, San José\, Costa Rica;X-APPLE-RADIUS=100;X-TITLE=
 El Refugio RestoBar:geo:9.930821,-84.046886
END:VEVENT
BEGIN:VTIMEZONE
TZID:America/Costa_Rica
X-LIC-LOCATION:America/Costa_Rica
BEGIN:STANDARD
DTSTART:20220715T210000
TZOFFSETFROM:-0600
TZOFFSETTO:-0600
TZNAME:CST
END:STANDARD
END:VTIMEZONE
END:VCALENDAR