BEGIN:VCALENDAR
VERSION:2.0
PRODID:-//wp-events-plugin.com//7.0.4//EN
BEGIN:VEVENT
UID:12@oscarpino.com
DTSTART;TZID=America/Costa_Rica:20210827T183000
DTEND;TZID=America/Costa_Rica:20210827T210000
DTSTAMP:20210824T151324Z
URL:https://oscarpino.com/events/dirigo-fermentory/
SUMMARY:Dirigo Fermentory
DESCRIPTION:NO Cover pero se recomienda reservar\, cupo limitado. Whatsapp:
  506.89962525
ATTACH;FMTTYPE=image/jpeg:https://oscarpino.com/wp-content/uploads/2021/08
 /DIRIG.jpg
CATEGORIES:Live Music Venue
END:VEVENT
BEGIN:VTIMEZONE
TZID:America/Costa_Rica
X-LIC-LOCATION:America/Costa_Rica
BEGIN:STANDARD
DTSTART:20200827T183000
TZOFFSETFROM:-0600
TZOFFSETTO:-0600
TZNAME:CST
END:STANDARD
END:VTIMEZONE
END:VCALENDAR