BEGIN:VCALENDAR
VERSION:2.0
PRODID:-//wp-events-plugin.com//7.0.4//EN
BEGIN:VEVENT
UID:15@oscarpino.com
DTSTART;TZID=America/Costa_Rica:20220129T190000
DTEND;TZID=America/Costa_Rica:20220129T210000
DTSTAMP:20220207T210722Z
URL:https://oscarpino.com/events/dirigo-fermentory-con-rocio-perez-de-arge
 ntina/
SUMMARY:Dirigo Fermentory con Rocío Perez de Argentina
DESCRIPTION:
LOCATION:Dirigo Fermentory\, Alajuela\, Alajuela\, Costa Rica
X-APPLE-STRUCTURED-LOCATION;VALUE=URI;X-ADDRESS=Alajuela\, Alajuela\, Costa
  Rica;X-APPLE-RADIUS=100;X-TITLE=Dirigo Fermentory:geo:0,0
END:VEVENT
BEGIN:VTIMEZONE
TZID:America/Costa_Rica
X-LIC-LOCATION:America/Costa_Rica
BEGIN:STANDARD
DTSTART:20210129T190000
TZOFFSETFROM:-0600
TZOFFSETTO:-0600
TZNAME:CST
END:STANDARD
END:VTIMEZONE
END:VCALENDAR