BEGIN:VCALENDAR
VERSION:2.0
PRODID:-//wp-events-plugin.com//7.0.4//EN
BEGIN:VEVENT
UID:20@oscarpino.com
DTSTART;TZID=America/Costa_Rica:20220611T200000
DTEND;TZID=America/Costa_Rica:20220611T220000
DTSTAMP:20220510T131222Z
URL:https://oscarpino.com/events/dirigo-fermentory-2/
SUMMARY:Dirigo Fermentory
DESCRIPTION:
LOCATION:Dirigo Fermentory\, 2.5 km oeste de la Gasolinera de Villa Bonita\
 , Restaurante del Hotel Aeropuerto\,  Alajuela\, 20104\, Costa Rica
X-APPLE-STRUCTURED-LOCATION;VALUE=URI;X-ADDRESS=2.5 km oeste de la Gasoline
 ra de Villa Bonita\, Restaurante del Hotel Aeropuerto\,  Alajuela\, 20104\
 , Costa Rica;X-APPLE-RADIUS=100;X-TITLE=Dirigo Fermentory:geo:0,0
END:VEVENT
BEGIN:VTIMEZONE
TZID:America/Costa_Rica
X-LIC-LOCATION:America/Costa_Rica
BEGIN:STANDARD
DTSTART:20210611T200000
TZOFFSETFROM:-0600
TZOFFSETTO:-0600
TZNAME:CST
END:STANDARD
END:VTIMEZONE
END:VCALENDAR