BEGIN:VCALENDAR
VERSION:2.0
PRODID:-//wp-events-plugin.com//7.0.4//EN
BEGIN:VEVENT
UID:69@oscarpino.com
DTSTART;TZID=America/Costa_Rica:20231119T100000
DTEND;TZID=America/Costa_Rica:20231119T120000
DTSTAMP:20230907T235906Z
URL:https://oscarpino.com/events/dionnes/
SUMMARY:Dionne´s
DESCRIPTION:
CATEGORIES:Live Music Venue
END:VEVENT
BEGIN:VTIMEZONE
TZID:America/Costa_Rica
X-LIC-LOCATION:America/Costa_Rica
BEGIN:STANDARD
DTSTART:20221119T100000
TZOFFSETFROM:-0600
TZOFFSETTO:-0600
TZNAME:CST
END:STANDARD
END:VTIMEZONE
END:VCALENDAR