BEGIN:VCALENDAR
VERSION:2.0
PRODID:-//wp-events-plugin.com//7.0.4//EN
BEGIN:VEVENT
UID:68@oscarpino.com
DTSTART;TZID=America/Costa_Rica:20230922T180000
DTEND;TZID=America/Costa_Rica:20230922T193000
DTSTAMP:20230905T182945Z
URL:https://oscarpino.com/events/defrancos-cloud-cafe/
SUMMARY:DeFranco's Cloud Café
DESCRIPTION:
CATEGORIES:Live Music Venue
LOCATION:Barva Volcano\, Slopes of the Barva volcano\, Heredia\, Costa Rica
GEO:10.131304;-84.100879
X-APPLE-STRUCTURED-LOCATION;VALUE=URI;X-ADDRESS=Slopes of the Barva volcano
 \, Heredia\, Costa Rica;X-APPLE-RADIUS=100;X-TITLE=Barva Volcano:geo:10.13
 1304,-84.100879
END:VEVENT
BEGIN:VTIMEZONE
TZID:America/Costa_Rica
X-LIC-LOCATION:America/Costa_Rica
BEGIN:STANDARD
DTSTART:20220922T180000
TZOFFSETFROM:-0600
TZOFFSETTO:-0600
TZNAME:CST
END:STANDARD
END:VTIMEZONE
END:VCALENDAR