BEGIN:VCALENDAR
VERSION:2.0
PRODID:-//wp-events-plugin.com//7.0.4//EN
BEGIN:VEVENT
UID:6@oscarpino.com
DTSTART;TZID=America/Costa_Rica:20211125T163000
DTEND;TZID=America/Costa_Rica:20211125T170000
DTSTAMP:20210719T152358Z
URL:https://oscarpino.com/events/dawn-radio-festival/
SUMMARY:Dawn Radio Festival
DESCRIPTION:
LOCATION:Escazu\, San Antonio\, 150 S La Tapachula San Antonio Escazu\, Esc
 azu\, San José\, 10202\, Costa Rica
X-APPLE-STRUCTURED-LOCATION;VALUE=URI;X-ADDRESS=150 S La Tapachula San Anto
 nio Escazu\, Escazu\, San José\, 10202\, Costa Rica;X-APPLE-RADIUS=100;X-
 TITLE=Escazu\, San Antonio:geo:0,0
END:VEVENT
BEGIN:VTIMEZONE
TZID:America/Costa_Rica
X-LIC-LOCATION:America/Costa_Rica
BEGIN:STANDARD
DTSTART:20201125T163000
TZOFFSETFROM:-0600
TZOFFSETTO:-0600
TZNAME:CST
END:STANDARD
END:VTIMEZONE
END:VCALENDAR